BEGIN:VCALENDAR
VERSION:2.0
PRODID:-//wp-events-plugin.com//7.2.3.1//EN
BEGIN:VEVENT
UID:365@iabc.bc.ca
DTSTART:20240723T090000Z
DTEND:20240723T100000Z
DTSTAMP:20240719T043411Z
URL:https://iabc.bc.ca/upcoming-events/10-ways-to-make-a-good-impression-o
 n-and-off-the-golf-course/
SUMMARY:10 ways to make a good impression on and off the golf course
DESCRIPTION:What lessons are learned on the golf course about being an insp
 iring leader and living a fulfilling life?\n\nWhether you play or know gol
 f devotees\, this presentation will shed new light on the allure of the ga
 me and the synergistic relationship to our lives.\n\nDuring this presentat
 ion\, Karen Kaufman\, a prominent executive coach and golf enthusiast\, wi
 ll share her experiences on the golf course and the lessons she learned th
 at have infused her leadership and her clients' leadership.\n\n 	Online\n 
 	July 23\, 2024 at 9 - 10 a.m. PT\, noon to 1 p.m. ET\n\nLearn more and re
 gister at the IABC Philadelphia website
END:VEVENT
END:VCALENDAR