BEGIN:VCALENDAR
VERSION:2.0
PRODID:-//wp-events-plugin.com//7.2.3.1//EN
BEGIN:VEVENT
UID:209@iabc.bc.ca
DTSTART;TZID=America/Vancouver:20190620T173000
DTEND;TZID=America/Vancouver:20190620T183000
DTSTAMP:20210507T140951Z
URL:https://iabc.bc.ca/upcoming-events/2019-iabc-bc-agm/
SUMMARY:2019 IABC/BC AGM
DESCRIPTION:It’s that time of year again! Join us for some vibrant conver
 sation while we wrap up another great year with fellow IABC/BC members at 
 our 39th Annual General Meeting.\n\nHear about our chapter successes from 
 2018/2019\, vote in new business items\, and meet your new 2019/2020 chapt
 er board members.\n\nCheck-in: 5:30 p.m. – 5:45 p.m.\nAGM: 5:45 p.m. –
  6:30 p.m.\n\nAs part of our bylaws\, we require a quorum of 5% of our mem
 bership in order to pass any items on the AGM Agenda. As with every chapte
 r year\, we are passing the new board slate as well as reviewing and appro
 ving the financial statements from the previous fiscal year.\n\n 	2019 AGM
  Agenda and 2019/2020 Proposed Board Slate\n 	2018 AGM – Meeting Minutes
  (for approval)\n 	Financial Statement (June 30\, 2018)\n\nAny questions a
 bout the AGM?\nPlease contact\nexecutive@iabc.bc.ca\n\nMembers: Free\nStud
 ent members: Free\nNon-Members: Free\nStudent non-members: Free\n\nRegistr
 ation open until Tuesday\, June 18 at 11.59pm\nRegister now\nPlease stay f
 or the IABC/BC Wave Awards reception afterwards. Register separately for t
 he Wave Awards.\n\n*While the AGM is a free event\, the Wave Awards gala r
 eception is a paid event. Both events are open to members and non-members.
 \n\nNeed help registering? Call the IABC/BC registration line at 604-878-1
 320 or email our admin team at: iabcbc@vancouveroffice.com
END:VEVENT
BEGIN:VTIMEZONE
TZID:America/Vancouver
X-LIC-LOCATION:America/Vancouver
BEGIN:DAYLIGHT
DTSTART:20190310T030000
TZOFFSETFROM:-0800
TZOFFSETTO:-0700
TZNAME:PDT
END:DAYLIGHT
END:VTIMEZONE
END:VCALENDAR