BEGIN:VCALENDAR
VERSION:2.0
PRODID:-//wp-events-plugin.com//7.2.3.1//EN
BEGIN:VEVENT
UID:389@iabc.bc.ca
DTSTART:20250613T180000Z
DTEND:20250613T200000Z
DTSTAMP:20250528T233912Z
URL:https://iabc.bc.ca/upcoming-events/2025-summer-social-and-wave-awards/
SUMMARY:2025 Summer Social and Wave Awards
DESCRIPTION:Celebrate the season in style at the 2025 Summer Social and Wav
 e Awards\, hosted at Steamworks Brewpub!\n\nJoin us for an evening of musi
 c\, mingling and raising a glass to the incredible nominees and winners of
  this year’s Wave Awards — the best in the communications industry.\n\
 nDress to impress\, connect with fellow comms pros and be part of a night 
 to remember.\n\nDate: Friday\, June 13\, 2025\nTime: 6 to 8 p.m.\nVenue: S
 teamworks Brewpub\, 375 Water Street\, Vancouver\, BC V6B 1B8\n\n&#x1f39f\
 ;&#xfe0f\; Get your tickets now and don’t miss out on this must-attend s
 ummer celebration!\n\nBuy your tickets for the event at Eventbrite
ATTACH;FMTTYPE=image/jpeg:https://iabc.bc.ca/wp-content/uploads/2025/05/Ev
 entbrite-2025-Summer-Social-Wave-Awards-2160-x-1080-px-1-e1748446617803.pn
 g
END:VEVENT
END:VCALENDAR