BEGIN:VCALENDAR
VERSION:2.0
PRODID:-//wp-events-plugin.com//7.2.3.1//EN
BEGIN:VEVENT
UID:236@iabc.bc.ca
DTSTART:20201028T070000Z
DTEND:20201028T080000Z
DTSTAMP:20220112T025956Z
URL:https://iabc.bc.ca/upcoming-events/9-ic-experts-share-their-1-tip-to-e
 ngage-a-distributed-workforce-webinar/
SUMMARY:9 IC Experts Share Their #1 Tip to Engage a Distributed Workforce W
 ebinar
DESCRIPTION:The COVID-19 pandemic has reshaped the workplace. The way we wo
 rk\, communicate and interact with our colleagues has drastically changed 
 in no time.\n\nIn the United States alone\, 62% of employees worked at hom
 e during the pandemic. That’s up from about 25% a few years ago. With a 
 majority of companies planning to shift to a heavier focus on remote work\
 , the question on every communicator’s mind is: “how do I engage my re
 mote\, distributed workforce?”\n\nWe’ve got good news and bad news. Th
 e good news is that there are a lot of companies and IC professionals that
  have been engaging a distributed workforce even before the pandemic start
 ed.\n\nThe bad news is that\, unfortunately\, there really isn’t a 1-siz
 e-fits-all. So that’s why we went out and got a few more opinions.\n\nIn
  this session\, 9 IC experts will share their #1 tip to engage a distribut
 ed workforce. Join\, listen and interact as speakers from TomTom\, Standar
 d Chartered\, CEMEX and more share their insights on how to engage employe
 es in the age of remote work.\n\nSpeakers:\n\n 	Aleks Cardwell (host) – 
 Product Marketing Manager @ Smarp\n 	Kriti Pradhan – Internal &amp\; Ext
 ernal Communications\, Digital Communications for HR @ Bennett Coleman and
  Co. Ltd. (Times Group)\n 	Claudia Preda – Global Internal Communication
 s Specialist @ TomTom\n 	Irina Panayotova – Senior Employee Communicatio
 ns Professional\, Sutherland Alumna\n 	Meghna Bharat – Specialist\, Corp
 orate Communications\n 	Justin Robbins – Communication Expert\, IOIC Fel
 low\, Co-Founder of Fit2Communicate\n 	Michele Martin – Manager\, Intern
 al Communications\, Strategic Priorities @ London Health Sciences Center\n
  	Mariana Lamadrid Padilla – Corporate Communications Advisor @ CEMEX\n 
 	Ray Walsh – Communications and Internal Localization Consultant\n 	Adam
  Chiasson – Communications Director @ Standard Chartered Bank\n\nThis we
 binar is sponsored by:\n\n\n\nDate: 28 October 2020\nTime: 9–10 a.m. CS
 T / 7–8 a.m.\nOpen to all communications professionals
END:VEVENT
END:VCALENDAR