BEGIN:VCALENDAR
VERSION:2.0
PRODID:-//wp-events-plugin.com//7.2.3.1//EN
BEGIN:VEVENT
UID:207@iabc.bc.ca
DTSTART;TZID=America/Vancouver:20190606T180000
DTEND;TZID=America/Vancouver:20190606T193000
DTSTAMP:20190510T014014Z
URL:https://iabc.bc.ca/upcoming-events/adding-video-content-to-your-market
 ing-and-communication-toolkit/
SUMMARY:Digital Strategy SIG: Adding Video Content to Your Marketing and Co
 mmunication Toolkit
DESCRIPTION:Join the Digital Strategy SIG and Lee-Anne Theron of Six Degree
 s Productions as we discuss using video content as a communications tool. 
 With 13 years of experience in video production\, Lee-Anne will provide va
 luable insights into using video in your communications strategies\, the 
 “do’s and don’ts” of video\, along with other information related 
 to video in areas of customer engagement\, internal comms and B2B marketin
 g.\n\nRegular pricing:\n\nMembers: Free\nNon-Members: $20\n\nNeed help reg
 istering? Call the IABC/BC registration line at 604-878-1320 or email our 
 admin team at: iabcbc@vancouveroffice.com
END:VEVENT
BEGIN:VTIMEZONE
TZID:America/Vancouver
X-LIC-LOCATION:America/Vancouver
BEGIN:DAYLIGHT
DTSTART:20190310T030000
TZOFFSETFROM:-0800
TZOFFSETTO:-0700
TZNAME:PDT
END:DAYLIGHT
END:VTIMEZONE
END:VCALENDAR