BEGIN:VCALENDAR
VERSION:2.0
PRODID:-//wp-events-plugin.com//7.2.3.1//EN
BEGIN:VEVENT
UID:248@iabc.bc.ca
DTSTART:20210223T160000Z
DTEND:20210223T173000Z
DTSTAMP:20220112T025944Z
URL:https://iabc.bc.ca/upcoming-events/amp-up-your-communications-planning
 -workshop/
SUMMARY:Amp Up Your Communications Planning Workshop
DESCRIPTION:Wow\, your friends and impress your boss!\n\nPower up your prof
 essional credibility\, value to your employer\, and the effectiveness of y
 our work. Strategic communication planning is crucial to any organization
 ’s success. A strong communications plan will help you and your organiza
 tion meet both your business and communications goals.\n\nIn this workshop
  series – geared to junior and intermediate level professionals – you
 ’ll learn the philosophy and fundamentals of strategic communication pla
 nning\, get templates and tips\, build a strategic communication plan\, an
 d get coaching and evaluation from a team of senior\, accredited  communi
 cations professionals.\nSession 1: Workshop\nFebruary 23\, 2021 from 4 p.m
 . - 5:30\n\nLearn the fundamentals and philosophy of strategic communicati
 on planning from accredited senior communicators. You’ll get tips and te
 mplates to take away and build your own project-specific strategic communi
 cation plan for review by our expert panel of senior-level coaches in sess
 ion 2.\nSession 2: Individual coaching\nLate March 2021\n\nOur panel will 
 review and give you specific feedback on your plans. In small-group sessio
 ns\, you’ll get to learn from both our coaches and your peers\, share yo
 ur thoughts and ideas\, and get some great feedback you can apply to your 
 strategic communication planning work going forward.\nYour presenters\n\n 
 	Angela Wilson\, ABC\n 	Nicole Adams\, ABC\n\nYour coaches\n\n 	John Corry
 \, BA ABC\n 	Juli Holloway\, SCMP\n 	Jennifer Killam\, SCMP\n 	Nicole Adam
 s\, ABC\n 	Angela Wilson\, ABC\n\nRegistration fees\nLimited number of tic
 kets available. Deadline to register is February 15\, 2021. Price not incl
 usive of tax and Eventbrite fees.\n\n 	Members: $75\n 	Student Members: $5
 0\n 	Non-Members: $90\n 	Student Non-Members: $60\n\n&nbsp\;\n\nThe Zoom l
 ink will be shared via email the day before the event. All refund requests
  must be made 48 hours prior to the event date.
END:VEVENT
END:VCALENDAR