BEGIN:VCALENDAR
VERSION:2.0
PRODID:-//wp-events-plugin.com//7.2.3.1//EN
BEGIN:VEVENT
UID:255@iabc.bc.ca
DTSTART:20210325T100000Z
DTEND:20210325T110000Z
DTSTAMP:20220112T025944Z
URL:https://iabc.bc.ca/upcoming-events/being-authentic-doesnt-make-you-bel
 ievable-real-talk-with-chris-brogan/
SUMMARY:Being Authentic Doesn't Make You Believable: Real Talk with Chris B
 rogan from IABC Houston
DESCRIPTION:IABC Houston welcomes Chris Brogan\, a New York Times bestse
 lling author\, for a fireside chat on Thursday\, March 25\, from 12-1 p.m
 . CT (10 -11 a.m. PST).\n\nYou’ll gain Chris’ insight on the important
  topic of personal leadership\, including leadership styles\, communicatio
 ns skills\, collaboration and configuration. Plus\, we’ll learn more on 
 his inspiring annual exercise for personal development\, known as ‘My Th
 ree Words\,’ and how our individual three words can guide and motivate u
 s in working towards our professional goals.\n\nLaughs and life lessons ar
 e guaranteed for this session – you won’t want to miss it!\nAbout the 
 Speaker\nChris Brogan is president of Chris Brogan Media\, offering brand 
 strategy and digital content and presence management help to businesses of
  all sizes. He is a sought-after keynote speaker and showrunner of The 
 Backpack Show. He is the New York Times bestselling author of nine boo
 ks and counting. He’s working on his latest: The Backpack.\n\nBrogan ha
 s spoken for or consulted with the biggest brands you know\, including D
 isney\, Coke\, Google\, GM\, Microsoft\, and many more. He’s appeared on
  the Dr. Phil Show\, interviewed Richard Branson for a cover story for Su
 ccess magazine\, and once even presented to a Princess.\nTickets\n$0.00 M
 ember Ticket\n$15.00 Nonmember Ticket
END:VEVENT
END:VCALENDAR