BEGIN:VCALENDAR
VERSION:2.0
PRODID:-//wp-events-plugin.com//7.2.3.1//EN
BEGIN:VEVENT
UID:397@iabc.bc.ca
DTSTART:20260326T173000Z
DTEND:20260326T183000Z
DTSTAMP:20260309T190006Z
URL:https://iabc.bc.ca/upcoming-events/clicks-community-coin-inside-the-cr
 eator-journey/
SUMMARY:Clicks\, Community & Coin: Inside the Creator Journey
DESCRIPTION:&nbsp\;\n\n&nbsp\;\n\nJoin us for a fun\, honest\, no-gatekeepi
 ng webinar with Nan Maung and Yvonne Ko — two standout creators with tot
 ally different journeys and strategies. They’re answering your questions
  live and spilling the real tea on what it actually takes to build influen
 ce that lasts.\n\nWe’ll chat about how they got started\, the challenges
  no one talks about\, what they wish they knew earlier\, and how their pla
 tform strategies differ. Plus\, the good stuff: landing brand deals\, work
 ing with brands you actually like\, and the tips and tricks that have help
 ed them grow (without burning out).\n\n\n\nCome curious\, leave inspired
 —and maybe a little more confident about your own creator path\n\nWhat w
 e’ll cover:\n\n 	Getting started (and surviving the awkward early days)\
 n 	Platform faves &amp\; how strategy changes across channels\n 	Common mi
 stakes + lessons learned the hard way\n 	Brand deals: how to attract them 
 and say yes (or no)\n 	Creator tips you can actually use\n\nPerfect for as
 piring creators\, growing influencers\, and anyone curious about the behin
 d-the-scenes of the creator economy
ATTACH;FMTTYPE=image/jpeg:https://iabc.bc.ca/wp-content/uploads/2026/03/Ge
 mini_Generated_Image_kyg19ckyg19ckyg1-scaled-e1773083048617.png
END:VEVENT
END:VCALENDAR