BEGIN:VCALENDAR
VERSION:2.0
PRODID:-//wp-events-plugin.com//7.2.3.1//EN
BEGIN:VEVENT
UID:369@iabc.bc.ca
DTSTART:20241113T180000Z
DTEND:20241113T213000Z
DTSTAMP:20241002T030500Z
URL:https://iabc.bc.ca/upcoming-events/cmp-and-scmp-certification-exam-nov
 -13/
SUMMARY:CMP and SCMP certification exam: Nov. 13
DESCRIPTION:We are holding an in-person exam in Vancouver on Wednesday\, No
 vember 13 from 6 to 9:30 p.m. Location will be provided upon registration.
 \n\nHas your application been approved? If yes\, please fill out this regi
 stration form so we know you’ll be joining us to write the exam in perso
 n.\n\nLearn more about becoming a certified Communications Management Prof
 essional and Strategic Communications Management Professional on the IABC/
 BC certification webpage.
END:VEVENT
END:VCALENDAR