BEGIN:VCALENDAR
VERSION:2.0
PRODID:-//wp-events-plugin.com//7.2.3.1//EN
BEGIN:VEVENT
UID:119@iabc.bc.ca
DTSTART:20170118T180000Z
DTEND:20170118T203000Z
DTSTAMP:20210507T140536Z
URL:https://iabc.bc.ca/upcoming-events/coaching-vs-mentoring-the-pros-and-
 pitfalls-of-a-website-redesign/
SUMMARY:Coaching vs. Mentoring & the Pros and Pitfalls of a Website Redesig
 n
DESCRIPTION:Dine and discuss two important topics with fellow seasoned comm
 unicators: coaching vs. mentoring\, plus the pros and pitfalls of website 
 redesign. 
END:VEVENT
END:VCALENDAR