BEGIN:VCALENDAR
VERSION:2.0
PRODID:-//wp-events-plugin.com//7.2.3.1//EN
BEGIN:VEVENT
UID:183@iabc.bc.ca
DTSTART;TZID=America/Vancouver:20181107T173000
DTEND;TZID=America/Vancouver:20181107T193000
DTSTAMP:20210507T140846Z
URL:https://iabc.bc.ca/upcoming-events/comms-planning-from-a-to-z/
SUMMARY:Comms planning - From A to Z
DESCRIPTION:In partnership with SFU Beedie School of Business\, IABC/BC inv
 ites you to attend Comms planning — From A to Z\, a two-hour workshop le
 d by IABC/BC Past President Erin Driscoll\, ABC on November 7.\n\nRoll up 
 your sleeves and be prepared to immerse yourself in an interactive worksho
 p. You’ll experience the whole process of building a communications plan
  from scratch so that it’s consistent and aligned to the organization’
 s goals. Get ready because we’ll cover the whats\, whys and hows.\n\nOff
 ering practical exercises\, Erin will walk you through the important steps
  that lead to an effective communications plan. You’ll learn lots from h
 er\, and leave this event ready to rock in the workplace.\n\nNote that thi
 s is a hands-on workshop\, so please bring your laptop and notebooks.\n\nA
 bout our presenter:\n\nErin Driscoll is a seasoned business communicator. 
 While she’s been an independent consultant for most of her career\, she
 ’s also held a number of in-house corporate communications roles and man
 aged a public relations firm.\n\nAlways linking activities to the big pict
 ure\, Erin works closely with her clients to ensure initiatives are aligne
 d with business objectives\, and activities are meaningful and results-ori
 ented.\n\nVolunteering and mentoring fill a lot of Erin’s days\, as she 
 believes that saying yes to a variety of experiences teaches us things we 
 wouldn’t necessarily set out to learn. It’s not a surprise that she’
 s been actively involved with our chapter for more than two decades. She c
 haired the national level awards program and annual leadership conference\
 , and currently evaluates awards submissions and serves as a strategic adv
 isor and mentor to fellow communicators.\n\nErin is an Accredited Business
  Communicator (ABC)\, certified in the Prosci Change Management methodolog
 y\, and holds an Honours Degree\, Bachelor of Arts (BA Hons.)\, from the U
 niversity of Windsor.\n\n&nbsp\;\nRegister Now\nTickets available until No
 vember 5\, 2018.\n\n&nbsp\;\n\nEarly Bird pricing (until October 21):\n\nM
 embers: $30\nStudent members: $15\nNon-Members: $40\nStudent non-members: 
 $20\n\n&nbsp\;\n\nRegular pricing (October 22 - November 5):\n\nMembers: $
 35\nStudent members: $20\nNon-Members: $45\nStudent non-members: $25\n\nRe
 duced ticket prices thanks to our sponsor.\n\nNeed help registering? Call 
 the IABC/BC registration line at 604-878-1320 or email our admin team at: 
 iabcbc@vancouveroffice.com\n\n&nbsp\;\n\n
END:VEVENT
BEGIN:VTIMEZONE
TZID:America/Vancouver
X-LIC-LOCATION:America/Vancouver
BEGIN:STANDARD
DTSTART:20181104T010000
TZOFFSETFROM:-0700
TZOFFSETTO:-0800
TZNAME:PST
END:STANDARD
END:VTIMEZONE
END:VCALENDAR