BEGIN:VCALENDAR
VERSION:2.0
PRODID:-//wp-events-plugin.com//7.2.3.1//EN
BEGIN:VEVENT
UID:382@iabc.bc.ca
DTSTART:20250521T000000Z
DTEND:20250529T000000Z
DTSTAMP:20250423T234020Z
URL:https://iabc.bc.ca/upcoming-events/comms-to-the-table-2025/
SUMMARY:Comms to the table 2025
DESCRIPTION:Gather with your local comms community this May for great conve
 rsation and even better company.\n\nComms to the Table is back with in-per
 son meetups exclusively for IABC/BC members. From Vancouver to Kelowna\, j
 oin us at one of four locations—Vancouver\, Richmond\, North Vancouver a
 nd Kelowna—for a relaxed evening of connection and community. Whether yo
 u're a longtime member or new to IABC\, there’s a seat for you at the ta
 ble. Okanagan folks—your Kelowna group is especially looking forward to 
 seeing you!\n\nHere are your options: \n\n 	Vancouver: Craft Market\, May
  21 @ 6 p.m. (host: Todd Hauptman\, Communications Manager at the Vancouve
 r Aquarium with a SCMP certification)\n 	Richmond: Earls Kitchen + Bar\, M
 ay 25 @ 11:30 a.m. (host: Connie Wu\, Communications Specialist)\n 	Kelown
 a: Curious Cafe\, May 28 @ 6 p.m. (host: Danelle Wettstein\, Internal Comm
 unications Manager with a CMP certification)\n 	North Vancouver: JOEY Ship
 yards\, May 29 @ 5:30 p.m. (host: Gavin Wilson\, Communications Consultant
  with an ABC certification)\n\nNo cost to register - just RSVP to allow fo
 r reservations. The only cost to you is your meal. IABC/BC members only.\n
 \nRSVP  
ATTACH;FMTTYPE=image/jpeg:https://iabc.bc.ca/wp-content/uploads/2025/04/We
 b-Banner-Comms-to-the-table-2025-e1745362973252.png
END:VEVENT
END:VCALENDAR