BEGIN:VCALENDAR
VERSION:2.0
PRODID:-//wp-events-plugin.com//7.2.3.1//EN
BEGIN:VEVENT
UID:350@iabc.bc.ca
DTSTART:20240124T180000Z
DTEND:20240131T200000Z
DTSTAMP:20240311T081738Z
URL:https://iabc.bc.ca/upcoming-events/comms-to-the-table-for-a-fresh-star
 t-to-2024/
SUMMARY:Comms to the table for a fresh start to 2024
DESCRIPTION:Our first Comms to the table in November was a great success\, 
 so we’re kicking off the new year with the next dine-around event.
END:VEVENT
END:VCALENDAR