BEGIN:VCALENDAR
VERSION:2.0
PRODID:-//wp-events-plugin.com//7.2.3.1//EN
BEGIN:VEVENT
UID:375@iabc.bc.ca
DTSTART;VALUE=DATE:20250130
DTEND;VALUE=DATE:20250206
DTSTAMP:20250114T013619Z
URL:https://iabc.bc.ca/upcoming-events/comms-to-the-table-in-jan-feb-great
 -food-great-conversation-2/
SUMMARY:Comms to the table in Jan/Feb: Great food\, great conversation
DESCRIPTION:\n\n\nWarm up with a cozy drink and great conversation with you
 r local comms community. Comms to the Table returns this late January and
  early February for get-togethers exclusively for IABC members. Choose fro
 m five locations—Vancouver\, Richmond\, Tri-Cities\, North Vancouver\, a
 nd Kelowna—and connect with fellow communicators in your area. If you’
 re in the Okanagan\, the Kelowna group will be excited to welcome you!Date
 s: January 30 to February 5\, 2025\n\nTime: Brunch or dinner\n\nFormat:
  In person\, multiple locations\n\nHere are your options:\n\n 	Vancouver 
 (Downtown): Tableau Bar Bistro\, Jan. 30\, 6 p.m. Host: Yvonne Anderson.\n
  	Richmond: Earls Kitchen + Bar\, Feb. 1\, 11:30 a.m. Host: Connie Wu\, IA
 BC Social Event Coordinator.\n 	Tri-Cities: Gilnetter Pub\, Feb. 2\, 11 a.
 m. Host: Jacqui d’Eon\, ABC\, MC.\n 	Kelowna: Soul de Cuba Cafe\, Feb. 2
 \, 11 a.m. Host: Danelle Wettstein\, CMP.\n 	North Vancouver: Joey Shipyar
 ds\, Feb. 5\, 5:30 p.m. Host: Jennifer Wah\, ABC\, MC\, IABC Fellow. 8 peo
 ple maximum.\n\nNo cost to register – just RSVP to allow for reservation
 s. The only cost to you is your meal. IABC/BC members only.\n\nRSVP\n\n\n
ATTACH;FMTTYPE=image/jpeg:https://iabc.bc.ca/wp-content/uploads/2024/12/Co
 mms-to-the-Table-2025_Jan-Feb-1920x1080-1-e1733699601899.jpg
END:VEVENT
END:VCALENDAR