BEGIN:VCALENDAR
VERSION:2.0
PRODID:-//wp-events-plugin.com//7.2.3.1//EN
BEGIN:VEVENT
UID:364@iabc.bc.ca
DTSTART:20240716T110000Z
DTEND:20240728T170000Z
DTSTAMP:20240708T073726Z
URL:https://iabc.bc.ca/upcoming-events/comms-to-the-table-july-2024/
SUMMARY:Comms to the table - staying cool in July
DESCRIPTION:Enjoy a cool drink on a hot day with your local comms peeps. Co
 mms to the table returns for mid-summer get-togethers for IABC-Members.
END:VEVENT
END:VCALENDAR