BEGIN:VCALENDAR
VERSION:2.0
PRODID:-//wp-events-plugin.com//7.2.3.1//EN
BEGIN:VEVENT
UID:103@iabc.bc.ca
DTSTART:20160920T110000Z
DTEND:20160920T120000Z
DTSTAMP:20160907T074511Z
URL:https://iabc.bc.ca/upcoming-events/communicating-in-teams-to-build-emp
 loyee-engagement/
SUMMARY:Communicating in teams to build employee engagement
DESCRIPTION:This webinar\, part of the Best in Show series\, offers a recip
 e for building employee engagement through teams.
END:VEVENT
END:VCALENDAR