BEGIN:VCALENDAR
VERSION:2.0
PRODID:-//wp-events-plugin.com//7.2.3.1//EN
BEGIN:VEVENT
UID:265@iabc.bc.ca
DTSTART:20210423T090000Z
DTEND:20210423T120000Z
DTSTAMP:20220112T025931Z
URL:https://iabc.bc.ca/upcoming-events/corporate-snakes-and-ladders/
SUMMARY:Corporate Snakes and Ladders
DESCRIPTION:Come play Corporate Snakes and Career Ladders online with your 
 peers across the IABC Canada West region!\n\nIn teams\, you will take on t
 he role of Carmen Spinoza\, Communications Director for a multi-national\,
  fictional company. You will explore a series of real-life business challe
 nges where you will advise Carmen to make strategic decisions as she inter
 acts with executive leadership – helping to justify her newly gained “
 seat at the table”.\n\nPlayed by hundreds of communication professionals
  around the world at IABC conferences\, this popular game is now delivered
  online in a fast-paced workshop format.\n\nJoin us for a fun and engaging
  session to test your skills as a strategic advisor. It’s a great opport
 unity to play outside your comfort zone in a safe space!\n\nRegister now 
 – limited spots available.\n\nDate: Friday\, April 23\, 2021\n\nTime: 9 
 a.m. – noon PST\n\nDelivered using Zoom breakout rooms and Mural as our 
 interactive game play environment. Registered participants will receive a 
 Zoom invite and more detailed information prior to session. CPD points ear
 ned may be used toward Certification eligibility.\n\nYour facilitators:\n\
 nSharon Hunter\, SCMP\n\nSheila Carruthers\, SCMP\n\nQuestions? Contact Ba
 rt Goemans\, IABC CWR Professional Development / Sponsorship Director at 
 cwr-pd@iabc.com.\n\n\n\nGoal of the workshop\nThrough role-play\, explore 
 the strategic thinking skills and actions needed to be recognized as a tru
 sted advisor.\n\nWhat you will do\n\n 	Debate key organizational issues an
 d reflect on strategic challenges through different perspectives\n 	Explor
 e real-life organizational dilemmas\n 	Test your ability to react under pr
 essure\n\nWhat you will learn\n\n 	How making a strategic impact requires 
 thinking beyond your functional role\n 	The different types of advisory st
 yles and how you can work better with others\n 	What actions help demonstr
 ate your strategic value to senior leaders\n 	Examples of when you might t
 ake risks and stretch outside your comfort zone\n\nWhat will you take away
 ?\n\n 	You will gain a fresh perspective of what it means to be a business
  leader\, get insights into your own behaviour\, and experience a taste of
  consensus-building under pressure.\n 	Each participant receives practical
  tools to reflect on their personal advisory style and how to apply insigh
 ts to collaborate with others.\n\nAbout the game\n\nCorporate Snakes and C
 areer Ladders is simulation-based training that helps you challenge your p
 erceptions of what it takes to be a business leader.\n\nDesigned by UK-bas
 ed Archetypical Ltd\, this simulation game offers an immersive experience
  to help marketing\, communication and HR professionals advance from techn
 ical experts to trusted strategic advisors within their organizations.
END:VEVENT
END:VCALENDAR