BEGIN:VCALENDAR
VERSION:2.0
PRODID:-//wp-events-plugin.com//7.2.3.1//EN
BEGIN:VEVENT
UID:111@iabc.bc.ca
DTSTART:20161122T080000Z
DTEND:20161122T163000Z
DTSTAMP:20210507T140520Z
URL:https://iabc.bc.ca/upcoming-events/cprs-vancouver-presents-advanced-wr
 iting-and-brand-journalism/
SUMMARY:CPRS Vancouver Presents: Advanced Writing and Brand Journalism
DESCRIPTION:Learn how to deliver content that hooks audience and gets real 
 results.
END:VEVENT
END:VCALENDAR