BEGIN:VCALENDAR
VERSION:2.0
PRODID:-//wp-events-plugin.com//7.2.3.1//EN
BEGIN:VEVENT
UID:80@iabc.bc.ca
DTSTART:20160517T173000Z
DTEND:20160517T200000Z
DTSTAMP:20210507T142028Z
URL:https://iabc.bc.ca/upcoming-events/crisis-communications-in-action-how
 -three-companies-sailed-through-stormy-waters/
SUMMARY:Crisis communications in action: How four companies sailed through 
 stormy waters
DESCRIPTION:How prepared are you? Every organization is vulnerable to crisi
 s and\, in this age of 24 hour news cycles and social media\, how you resp
 ond can inflame or quell the crisis. 
END:VEVENT
END:VCALENDAR