BEGIN:VCALENDAR
VERSION:2.0
PRODID:-//wp-events-plugin.com//7.2.3.1//EN
BEGIN:VEVENT
UID:96@iabc.bc.ca
DTSTART:20160512T180000Z
DTEND:20160512T193000Z
DTSTAMP:20210507T141936Z
URL:https://iabc.bc.ca/upcoming-events/digital-strategy-sig-join-the-digit
 al-roundtable-for-our-last-meeting/
SUMMARY:Digital Strategy SIG - Join the Digital RoundTable for our last mee
 ting!
DESCRIPTION:Do you have a challenge you’re facing in your current project
  around digital strategy and are looking for some peer-input on how to mov
 e ahead?
END:VEVENT
END:VCALENDAR