BEGIN:VCALENDAR
VERSION:2.0
PRODID:-//wp-events-plugin.com//7.2.3.1//EN
BEGIN:VEVENT
UID:113@iabc.bc.ca
DTSTART:20161117T174500Z
DTEND:20161117T191500Z
DTSTAMP:20210507T140514Z
URL:https://iabc.bc.ca/upcoming-events/digital-strategy-sig-to-blog-or-not
 -to-blog-thats-a-great-question/
SUMMARY:Digital Strategy SIG: To Blog or Not to Blog? That's a great questi
 on!
DESCRIPTION:Our Digital Strategy Special Interest Group (SIG) is kicking of
 f the year by examining the question: to blog or not to blog? 
END:VEVENT
END:VCALENDAR