BEGIN:VCALENDAR
VERSION:2.0
PRODID:-//wp-events-plugin.com//7.2.3.1//EN
BEGIN:VEVENT
UID:157@iabc.bc.ca
DTSTART:20171130T180000Z
DTEND:20171130T180000Z
DTSTAMP:20241122T190244Z
URL:https://iabc.bc.ca/upcoming-events/digital-strategy-sig/
SUMMARY:Digital Strategy SIG
DESCRIPTION:Come to the Digital Strategy SIG and gain insight into emerging
  digital strategies\, latest digital trends and best practice. 
END:VEVENT
END:VCALENDAR