BEGIN:VCALENDAR
VERSION:2.0
PRODID:-//wp-events-plugin.com//7.2.3.1//EN
BEGIN:VEVENT
UID:351@iabc.bc.ca
DTSTART:20240202T080000Z
DTEND:20240223T100000Z
DTSTAMP:20240311T081732Z
URL:https://iabc.bc.ca/upcoming-events/diversity-equity-and-inclusion-comm
 unications-advanced-mastermind-series/
SUMMARY:Diversity\, Equity and Inclusion Communications Advanced Mastermind
  Series
DESCRIPTION:We are thrilled to announce our Diversity\, Equity and Inclusio
 n (DEI) Communications Advanced Mastermind Series with DEI Communications 
 Expert\, Kim Clark!\n\nThree exclusive sessions:\n\n 	Friday\, February 2\
 , from 8 to 10 a.m. PT/11 a.m. to 1 p.m. ET\n 	Friday\, February 9\, from 
 8 to 10 a.m. PT/11 a.m. to 1 p.m. ET\n 	Friday\, February 23 from 8 to 10 
 a.m. PT/11 a.m. to 1 p.m. ET\n\nFrom social justice crises to Indigenous r
 elations\, we'll explore it all. Kim brings her expertise and energy for a
 n advanced custom series exclusively for Canadian IABC Members.\n\n 	Regis
 ter\n\n\n\n&nbsp\;\n\n&nbsp\;\n\n&nbsp\;\n\n&nbsp\;\n\n&nbsp\;\n\n&nbsp\;\
 n\n&nbsp\;\n\n&nbsp\;\n\n&nbsp\;\n\n&nbsp\;\n\nAbout Kim Clark\n\nKim Clar
 k helps communicators and content creators learn and apply Diversity\, Equ
 ity\, and Inclusion (DEI) to their work. As a result of helping organizati
 ons navigate these socially turbulent times\, communicators can engage lea
 ders and employees\, help attract and retain talent\, and strengthen organ
 izational reputations.\n\nShe is the co-author of The Conscious Communicat
 or: The fine art of not saying stupid sh*t\, an Amazon #1 bestseller that 
 features The DEPTH Model (TM).  DEPTH is a strategic and proactive framew
 ork to guide organizations on effectively positioning themselves on DEI an
 d social topics and narratives while making room to differentiate between 
 internal and external messaging.
END:VEVENT
END:VCALENDAR