BEGIN:VCALENDAR
VERSION:2.0
PRODID:-//wp-events-plugin.com//7.2.3.1//EN
BEGIN:VEVENT
UID:380@iabc.bc.ca
DTSTART:20250326T090000Z
DTEND:20250326T120000Z
DTSTAMP:20250328T122641Z
URL:https://iabc.bc.ca/upcoming-events/elevate-your-career-get-certified-w
 ith-cmp-or-scmp/
SUMMARY:Elevate your career! Get certified with CMP® or SCMP®
DESCRIPTION:Here's your chance to be a Communication Management Professiona
 l (CMP®) or Strategic Communication Management Professional (SCMP®) with
  IABC.\n\nWe are holding an in-person exam in Vancouver on Saturday\, Apr
 il 12\, 2025. Location will be provided upon registration.\nWhat is the di
 fference between the two levels?\n\n 	Communication Management Professiona
 l (CMP®)— for generalist\, specialist and other business communicators 
 established in their careers and looking to demonstrate their competence.\
 n 	Strategic Communication Management Professional (SCMP®)— for highly 
 skilled business communicators practiced in providing strategic communicat
 ion advice and counsel to an organization’s leadership.\n\n\nSteps to be
 coming certified\nOn the GCCC site:\n\n 	Review the requirements\n 	Downl
 oad the latest candidate handbook\n 	Submit your application and pay the
  fee\n\nWhen your application has been approved\, you’re ready to take t
 he exam!
ATTACH;FMTTYPE=image/jpeg:https://iabc.bc.ca/wp-content/uploads/2025/03/Re
 ctangle-SCMP-CMP-Exams-4-e1741714748278.png
END:VEVENT
END:VCALENDAR