BEGIN:VCALENDAR
VERSION:2.0
PRODID:-//wp-events-plugin.com//7.2.3.1//EN
BEGIN:VEVENT
UID:101@iabc.bc.ca
DTSTART:20160922T173000Z
DTEND:20160922T203000Z
DTSTAMP:20160908T070420Z
URL:https://iabc.bc.ca/upcoming-events/fall-kick-off/
SUMMARY:Fall Kick-Off
DESCRIPTION:Another summer is gone\, but IABC/BC is just getting warmed up 
 with our Fall Kick-Off! Join us on Thursday\, September 22\, at The Loft a
 t Earls Yaletown to celebrate the official start of the new IABC/BC season
 .
END:VEVENT
END:VCALENDAR