BEGIN:VCALENDAR
VERSION:2.0
PRODID:-//wp-events-plugin.com//7.2.3.1//EN
BEGIN:VEVENT
UID:115@iabc.bc.ca
DTSTART:20161130T113000Z
DTEND:20161130T123000Z
DTSTAMP:20161118T133326Z
URL:https://iabc.bc.ca/upcoming-events/free-webinar-by-ubc-how-having-a-co
 ntent-strategy-can-make-all-the-difference/
SUMMARY:FREE Webinar by UBC: How Having a Content Strategy Can Make All the
  Difference
DESCRIPTION:What does content really mean for today's marketers? How does h
 aving a content strategy impact brand and engagement and marketing ROI?
END:VEVENT
END:VCALENDAR