BEGIN:VCALENDAR
VERSION:2.0
PRODID:-//wp-events-plugin.com//7.2.3.1//EN
BEGIN:VEVENT
UID:374@iabc.bc.ca
DTSTART:20250111T143000Z
DTEND:20250111T153000Z
DTSTAMP:20241211T085350Z
URL:https://iabc.bc.ca/upcoming-events/gearing-up-for-2025-community-ride-
 with-iabc-bc-2/
SUMMARY:Gearing Up for 2025: Community Ride with IABC/BC
DESCRIPTION:Start 2025 off on a strong note with an afternoon of fun music\
 , great company\, and an iconic indoor cycling class that will leave you f
 eeling brand new. All levels are welcome! Whether you’re a seasoned pro 
 or a first time rider\, we’ll help you set up\, get comfortable\, and fi
 nd the beat as we ride together as one IABC/BC.\n\nThe talented Carson Kel
 ler\, coach at Spin Society and Executive Administrator at IABC/BC will le
 ad us through a 50-minute ride at the beautiful Mount Pleasant Spin Societ
 y studio\, all set to your favourite songs by the queens of pop.\n\nTime:
  2:30 p.m.\n\nDate: January 11\, 2025\n\nLocation: Spin Society (Mount 
 Pleasant)\n\nGet your ticket on Eventbrite.\n\nBritney\, Ariana\, and Bey
 oncé will all be in attendance! So join us — grab your bike and ride wi
 th your community as we get stronger together!
ATTACH;FMTTYPE=image/jpeg:https://iabc.bc.ca/wp-content/uploads/2024/12/Re
 ctangle-Community-Ride-Spotify-e1733698809392.png
END:VEVENT
END:VCALENDAR