BEGIN:VCALENDAR
VERSION:2.0
PRODID:-//wp-events-plugin.com//7.2.3.1//EN
BEGIN:VEVENT
UID:247@iabc.bc.ca
DTSTART:20210511T170000Z
DTEND:20210511T183000Z
DTSTAMP:20220112T025944Z
URL:https://iabc.bc.ca/upcoming-events/get-connected-balderdash/
SUMMARY:Get Connected: Balderdash Games Night
DESCRIPTION:\n\n\nRegister today to attend IABC/BC's Get Connected: Games N
 ight!\n\n\n\n\n\n\n\n\nBrush up on your communications jargon with a comic
 al game of balderdash and a candid conversation about communications.\n\n\
 n\n\nThe International Association of Business Communicators\, BC chapter'
 s Get Connected virtual social is a gathering for both IABC/BC members a
 nd non-members.\nAbout the event\nJoin us for an evening of networking\, g
 ames and candid conversations about communications.\n\nWhat exactly is bal
 derdash you may ask?...\n\nBalderdash is the game of twisting truths! In o
 ur version of Balderdash\, participants will be presented with jargon phra
 ses unique to the communications industry. Then\, players will be tasked w
 ith creating made-up\, but believable definitions. All responses will be s
 hared among the group - including the real definition. Everyone will vote 
 on an the real answer..but points will be awarded for the most creative re
 sponses.\nPricing\n\n 	Members: Free!\n 	Non-members:$5\n\n\n\n\n
END:VEVENT
END:VCALENDAR