BEGIN:VCALENDAR
VERSION:2.0
PRODID:-//wp-events-plugin.com//7.2.3.1//EN
BEGIN:VEVENT
UID:245@iabc.bc.ca
DTSTART:20210211T170000Z
DTEND:20210211T183000Z
DTSTAMP:20220112T025944Z
URL:https://iabc.bc.ca/upcoming-events/get-connected-event-specific-for-ke
 lowna-area-members/
SUMMARY:Get Connected: Okanagan
DESCRIPTION:\n\n\n\n\n\n\nAre you a Communication professional in the Okana
 gan region?\nIABC/BC invites you to a night of networking. Engage in a liv
 ely guided discussion with other Okanagan based Communication professional
 s .\n\n\n\n\n\n\n\n\n\nTickets\n\n 	Members: Free\n 	Non-members: $10\n\nN
 eed help registering?\n\n 	Call the IABC/BC registration line at 604-878-1
 320\n 	Email our admin team at: iabcbc [at] vancouveroffice.com\n\n\n\n\n
END:VEVENT
END:VCALENDAR