BEGIN:VCALENDAR
VERSION:2.0
PRODID:-//wp-events-plugin.com//7.2.3.1//EN
BEGIN:VEVENT
UID:121@iabc.bc.ca
DTSTART:20170125T174500Z
DTEND:20170125T193000Z
DTSTAMP:20170117T055200Z
URL:https://iabc.bc.ca/upcoming-events/get-connected-grow-your-career-with
 -iabcbc/
SUMMARY:Get Connected & Grow Your Career with IABC/BC
DESCRIPTION:\n\n\n\n\n\nKick off 2017 with IABC/BC at our FREE event open t
 o all members and potential members interested in getting involved in IABC
 /BC this year!\n\nHave a New Year’s resolution for your career? Come and
  share your 2017 intentions and interests with us and get connected to opp
 ortunities in IABC/BC that can support your career goals.\n\nThis informal
  networking and information session offers you a chance to learn more abou
 t our volunteer-run chapter\, the different areas led by volunteers and ho
 w you could join the team — whether as part of a portfolio to grow your 
 skills\, or leading a section of the chapter as part of our Board of Direc
 tors.\n\nBeing a volunteer-run organization and non-for profit\, means tha
 t we need many active volunteers to help keep our wheels turning.\n\nIt’
 s time to take charge of your career. Grow your network\, and get connecte
 d with IABC/BC!\n\nSee you there!\n\n&nbsp\;
END:VEVENT
END:VCALENDAR