BEGIN:VCALENDAR
VERSION:2.0
PRODID:-//wp-events-plugin.com//7.2.3.1//EN
BEGIN:VEVENT
UID:230@iabc.bc.ca
DTSTART:20201022T173000Z
DTEND:20201022T183000Z
DTSTAMP:20220112T025956Z
URL:https://iabc.bc.ca/upcoming-events/get-connected-virtual-speed-network
 ing-event/
SUMMARY:Get Connected: Virtual speed networking event
DESCRIPTION:\n\n\n\nRegister today to attend IABC/BC's virtual Get Connecte
 d Speed Networking Event!\n\n\n\n\n\n\n\n\n\nPerfect your elevator pitch\,
  connect with like-minded communications professionals and learn to naviga
 te the world of virtual networking.\n\n\n\nWho\nThe International Associat
 ion of Business Communicators\, B.C. chapter's annual Get Connected event 
 for both IABC/BC members and non-members.\n\nHave you recently joined th
 e IABC community? Be sure to join us for a special pre-event mix and mingl
 e designed to help new members meet other newbies and connect with directo
 rs of our board! New Member Social starts at 5:00pm\nWhat\nAre you ready t
 o perfect your elevator pitch and take your networking skills to the next 
 level? Wondering how to navigate the world of networking in the midst of a
  global pandemic?\n\nThrough this night of virtual networking\, you'll hav
 e a chance to review best practices\, brainstorm creative conversation sta
 rters and craft your very own elevator pitch. Guests will also have an opp
 ortunity to put their new skills to the test with a round of speed network
 ing\, and walk away with tangible strategies for making meaningful and las
 ting connections.\n\nGuest Speaker: Stephanie Keis from Smart\, Savvy + As
 sociates\n\nStephanie is passionate about connecting with people. As a Rec
 ruitment Associate at Smart\, Savvy + Associates she has the opportunity t
 o connect individuals with right fit companies within Marketing + Communic
 ations. Stephanie brings a variety of experience to the table having worke
 d on Parliament Hill\, executed the Future Proof Summit\, and worked 5+ ye
 ars' with the City of Abbotsford. She loves to put her driven nature to wo
 rk in all aspects of her role at Smart Savvy\, focusing on building great 
 relationships and teams!\nWhere\nParticipants will receive a Zoom link upo
 n registration.\nNeed help registering?\nCall the IABC/BC registration lin
 e at 604-878-1320 or email our admin team at: iabcbc@vancouveroffice.com\n
 \n\n\n\n
END:VEVENT
END:VCALENDAR