BEGIN:VCALENDAR
VERSION:2.0
PRODID:-//wp-events-plugin.com//7.2.3.1//EN
BEGIN:VEVENT
UID:181@iabc.bc.ca
DTSTART;TZID=America/Vancouver:20181016T173000
DTEND;TZID=America/Vancouver:20181016T203000
DTSTAMP:20210507T140839Z
URL:https://iabc.bc.ca/upcoming-events/get-connected-with-iabc-bc/
SUMMARY:Get Connected with IABC/BC
DESCRIPTION:The BC Chapter of IABC is one the world’s largest and offers 
 a variety of events to bring our members together. We hold informal Get Co
 nnected events a couple of times a year to showcase how you can get involv
 ed in our local chapter and to highlight some benefits you may not know ab
 out.  You’ll also get to meet fellow communicators and marketers in an 
 informal setting.\n\nLearn about:\n\n 	Becoming a volunteer\n 	How to beco
 me a speaker/share your expertise\n 	Certification\n 	Membership benefits\
 n 	Joining as a student/newcomer to Canada/BC\n\nAppetizers will be served
 . Happy hour pricing on drinks and more food will be available until 7pm.\
 n\nIt’s free to attend but please register soon as space is limited and 
 we’d like to order the right amount of food.\n\nPricing:  Free\n\nDoor 
 Prize:  Win a free pass for an IABC/BC Professional Development Event\n\n
 Deadline to register: Monday\, October 15\, 2018\n\nNeed help registering?
  Call the IABC/BC registration line at 604-878-1320 or email our admin tea
 m at: iabcbc@vancouveroffice.com\n\nParking:\nThere is a parking lot on Sm
 ithe\, between Homer and Richards. Meter parking is also available in the 
 area.
END:VEVENT
BEGIN:VTIMEZONE
TZID:America/Vancouver
X-LIC-LOCATION:America/Vancouver
BEGIN:DAYLIGHT
DTSTART:20180311T030000
TZOFFSETFROM:-0800
TZOFFSETTO:-0700
TZNAME:PDT
END:DAYLIGHT
END:VTIMEZONE
END:VCALENDAR