BEGIN:VCALENDAR
VERSION:2.0
PRODID:-//wp-events-plugin.com//7.2.3.1//EN
BEGIN:VEVENT
UID:366@iabc.bc.ca
DTSTART:20241010T173000Z
DTEND:20241010T190000Z
DTSTAMP:20240917T080302Z
URL:https://iabc.bc.ca/upcoming-events/getting-what-you-need-want-with-str
 ategic-communications/
SUMMARY:Getting what you need & want with strategic communications
DESCRIPTION:Learn the skills from Jacqui to get what you need and want with
  strategic communications.\n\nIn this Professional Development Event\, Jac
 qui will share her expertise on how to build and leverage strategic commun
 ication skills to get what you need and want.\n\nAbout the Speaker\n\nJacq
 ui d'Eon is an IABC Canada Master Communicator and a chemical engineer. Af
 ter 20 years at P&amp\;G and 10 years as the Chief Communications Officer 
 for Deloitte Canada\, she started her own business JAd'E Communications (J
 Ad'E). Through JAd'E she serves clients as a business coach\, reputation/i
 ssues manager and facilitates Leap to Leadership in which she helps women 
 achieve success on their terms. Jacqui is a passionate advocate for strate
 gic communication.\nDate: Thursday\, October 10\nTime: 5:30 to 7 p.m.\nLoc
 ation: Best Buy Canadian Headquarters\, 425 West 6th Avenue\, Vancouver\, 
 BC V5Y 1L3\nRegister 
ATTACH;FMTTYPE=image/jpeg:https://iabc.bc.ca/wp-content/uploads/2024/09/Ev
 entbrite-Graphic-Personal-Development-Event-Jacqui-deon-1-e1726531368924.p
 ng
END:VEVENT
END:VCALENDAR