BEGIN:VCALENDAR
VERSION:2.0
PRODID:-//wp-events-plugin.com//7.2.3.1//EN
BEGIN:VEVENT
UID:345@iabc.bc.ca
DTSTART:20231201T170000Z
DTEND:20231201T200000Z
DTSTAMP:20240311T081714Z
URL:https://iabc.bc.ca/upcoming-events/glitz-n-glam-2023-iabc-cprs-holiday
 -soiree/
SUMMARY:Glitz n' Glam: The 2023 IABC/CPRS Holiday Soirée
DESCRIPTION:Step Into The Festive Spirit at this year’s Glitz n' Glam Hol
 iday Soirée! Dec 1\, 2023 - 5 pm to 8 pm
ATTACH;FMTTYPE=image/jpeg:https://iabc.bc.ca/wp-content/uploads/2023/10/Gl
 itz-and-Glam-web.jpg
END:VEVENT
END:VCALENDAR