BEGIN:VCALENDAR
VERSION:2.0
PRODID:-//wp-events-plugin.com//7.2.3.1//EN
BEGIN:VEVENT
UID:104@iabc.bc.ca
DTSTART:20160926T110000Z
DTEND:20160926T120000Z
DTSTAMP:20160907T075448Z
URL:https://iabc.bc.ca/upcoming-events/goodbye-vanity-metrics-6-innovative
 -social-stats-you-should-be-tracking/
SUMMARY:Goodbye “vanity metrics”: 6 innovative social stats you SHOULD 
 be tracking
DESCRIPTION:This webinar\, part of the Best of Show series\, will look at i
 nnovative social media measurement practices effective businesses use.
END:VEVENT
END:VCALENDAR