BEGIN:VCALENDAR
VERSION:2.0
PRODID:-//wp-events-plugin.com//7.2.3.1//EN
BEGIN:VEVENT
UID:392@iabc.bc.ca
DTSTART:20251204T170000Z
DTEND:20251204T200000Z
DTSTAMP:20251128T025346Z
URL:https://iabc.bc.ca/upcoming-events/hollywood-holiday-party-with-iabc-b
 c-and-cprs-vancouver/
SUMMARY:Hollywood Holiday Party with IABC/BC and CPRS Vancouver
DESCRIPTION:&nbsp\;\nJoin us on Thursday\, December 4th\, 2025 for a night 
 of red-carpet magic\, sparkle\, laughter\, and a little movie magic.\n&nbs
 p\;\n\n\n\n&nbsp\;\n\n&nbsp\;\n\nDate: Thursday\, December 4th\, 2025\n\nT
 ime: 5:00–8:00 p.m.\n\nVenue: Ventura Room\, 695 Cambie St\, Vancouver\,
  BC\n\nTickets: LINK or try the link in the bio.\n\nDress code: Dress to i
 mpress in your most dazzling\, camera-ready attire\; think shimmer\, sequi
 ns\, and show-stopping style. Pose for the flashbulbs\, sip something spar
 kling\, and celebrate the season in true Hollywood fashion.\nTake advantag
 e of our early bird pricing available until November 7.\n&nbsp\;\n\nThank 
 you so much to our sponsors:\n\n                            
                                                 
                                   \n\n&nbsp\;\n\n&nbsp\;
END:VEVENT
END:VCALENDAR