BEGIN:VCALENDAR
VERSION:2.0
PRODID:-//wp-events-plugin.com//7.2.3.1//EN
BEGIN:VEVENT
UID:257@iabc.bc.ca
DTSTART:20210414T100000Z
DTEND:20210414T110000Z
DTSTAMP:20220112T025944Z
URL:https://iabc.bc.ca/upcoming-events/how-to-engage-all-stakeholders-in-y
 our-change-journeys/
SUMMARY:How to engage all stakeholders in your change journeys  from IABC C
 hicago
DESCRIPTION:Join IABC/Chicago and Ragan Consulting Group on Wednesday\, Apr
 il 14\, 2021 for a discussion around change communications.\n\nIt starts b
 y building a communications framework for change. Diana Peltier\, who has 
 more than 20 years of experience leading organizations through large\, com
 plex transformations. will offer examples and share strategies to help you
  deliver for your organization. Among the topics covered:  how to engage 
 change sponsors\, assess organizational impacts\, maintain employee experi
 ence through disruption\, leverage change networks and employee advisory c
 ouncils\, foster local relevance and more.\n\nIn this interactive workshop
 \, you’ll learn how to:\n\n 	Integrate change communications into a broa
 der change management strategy\n 	Apply the neuroscience of change\n 	Depl
 oy a change communications framework for your change and transformation in
 itiatives\n 	Incorporate tactics for sustained change communications succe
 ss\n\nEvent Details\nDate: Wednesday\, April 14\, 2021\n\nTime: 12 – 1 
 p.m. CDT (10 – 11 a.m. PST)\n\nLocation: Zoom meeting.\n\nPrice: Members
 : Free\nNon-members: Free\nStudents (with valid student ID): Free\n\nRSVP:
  Register now\n\n&nbsp\;\nAbout the Presenter\nDiana Peltier\, change com
 munications consultant with Ragan Consulting Group\n\nDiana has over 20 ye
 ars of experience delivering on the people side of change through impactfu
 l communications. Diana has a demonstrated track record of engaging audien
 ces\, elevating the purpose and brand of organizations and making a meanin
 gful difference in employees’ work lives. She has served in senior commu
 nications roles with Fortune 500 companies\, non-profits and the Big 4 –
  including as the Global Head of Communications and Engagement for EY. Dia
 na also has extensive change management experience\, most recently as a Gl
 obal Change Management Lead for the world’s largest SAP implementation.\
 n\nYou can find Diana on LinkedIn: www.linkedin.com/in/dianapeltier
END:VEVENT
END:VCALENDAR