BEGIN:VCALENDAR
VERSION:2.0
PRODID:-//wp-events-plugin.com//7.2.3.1//EN
BEGIN:VEVENT
UID:123@iabc.bc.ca
DTSTART:20170215T173000Z
DTEND:20170215T193000Z
DTSTAMP:20210507T140626Z
URL:https://iabc.bc.ca/upcoming-events/how-to-lead-when-you-are-feeling-bu
 rned-out/
SUMMARY:How To Lead When You Are Feeling Burned Out
DESCRIPTION:While some may think of leadership as a position\, it is actual
 ly a choice we make every day. Leadership requires that we bring our best 
 to every situation\, a challenging proposition in today’s work world.
END:VEVENT
END:VCALENDAR