BEGIN:VCALENDAR
VERSION:2.0
PRODID:-//wp-events-plugin.com//7.2.3.1//EN
BEGIN:VEVENT
UID:197@iabc.bc.ca
DTSTART;TZID=America/Vancouver:20190305T173000
DTEND;TZID=America/Vancouver:20190305T200000
DTSTAMP:20210507T140905Z
URL:https://iabc.bc.ca/upcoming-events/iabc-bc-7-quick-connections/
SUMMARY:IABC/BC  - Quick Connections
DESCRIPTION:Join IABC/BC for a casual and fun evening designed to introduce
  you to new professional connections in the field of marketing and communi
 cations.\n\nYou’ll start the evening with a drink and some delicious sna
 cks from Craft Beer Market. Then we’ll get seated at tables for two.  A
  bell will ring every seven minutes and you’ll make your way to your nex
 t connection.\n\nAlong the way\, we hope you’ll get a chance to learn mo
 re about our growing association\, upcoming professional development event
 s and volunteer opportunities.  And we’re sure you’ll meet some cool 
 people who share your profession. We welcome all members and non-members!\
 n\nCost: $10 (includes one drink and snacks)
END:VEVENT
BEGIN:VTIMEZONE
TZID:America/Vancouver
X-LIC-LOCATION:America/Vancouver
BEGIN:STANDARD
DTSTART:20181104T010000
TZOFFSETFROM:-0700
TZOFFSETTO:-0800
TZNAME:PST
END:STANDARD
END:VTIMEZONE
END:VCALENDAR