BEGIN:VCALENDAR
VERSION:2.0
PRODID:-//wp-events-plugin.com//7.2.3.1//EN
BEGIN:VEVENT
UID:361@iabc.bc.ca
DTSTART:20240613T173000Z
DTEND:20240613T183000Z
DTSTAMP:20240519T005006Z
URL:https://iabc.bc.ca/upcoming-events/iabc-bc-annual-general-meeting-2024
 /
SUMMARY:IABC/BC Annual General Meeting 2024
DESCRIPTION:\n\nDate: Thursday\, June 13\, 2024\n\nTime:  5:30 – 6:30 p.
 m. PT\n\nFormat: Virtual via Zoom\n\nAs another chapter year comes to a cl
 ose\, we’re taking a moment to reflect on the incredible accomplishments
  of each and every one of our volunteers. Thank you for all your contribut
 ions to the amazing community we call IABC/BC.\n\nThis year\, we’re invi
 ting all members from across the province to join us on Thursday\, June 13
  for our virtual 44th Annual General Meeting to recap the past year and vo
 te on our incoming board slate.\n\nAs part of our bylaws\, we require a qu
 orum of five per cent of our membership in order to pass any items on the 
 AGM agenda. As with every chapter year\, we are approving the new board sl
 ate and reviewing the financial statements from the previous year. Documen
 tation will be emailed directly to all members at least 14 days in advance
  of the AGM.\n\nRegister directly via Zoom\n\nThen\, it's time to party!
END:VEVENT
END:VCALENDAR