BEGIN:VCALENDAR
VERSION:2.0
PRODID:-//wp-events-plugin.com//7.2.3.1//EN
BEGIN:VEVENT
UID:250@iabc.bc.ca
DTSTART:20210301T180000Z
DTEND:20210301T190000Z
DTSTAMP:20220112T025944Z
URL:https://iabc.bc.ca/upcoming-events/iabc-bc-get-on-board-session/
SUMMARY:IABC/BC Get On-Board Session
DESCRIPTION:Ever wonder what it's like to serve on the IABC/BC Board of 
 Directors?\nThe B.C. chapter of the International Association of Business 
 Communicators has some seats to fill on our volunteer Board of Directors
  for the 2021-22 year. The new board year starts in June\, but we are re
 cruiting now to make sure that we get the right folks for the team!\n\nJoi
 ning a board is an important decision and we want to make sure you have 
 all the information that you need before you apply.\n\nAttend the virtual
  IABC/BC Get On-Board information session to learn from current board 
 members on what it's like to serve on the board. You'll also have the opp
 ortunity for small group Q&amp\;A conversations with the outgoing Director
 s of the portfolios listed below to learn what it takes to lead those port
 folios.\nEvent details\n\n 	Date: March 1\, 2021\n 	Time: 6:00 pm - 7:00 p
 m\n 	Format: Online\n 	Cost: Free\n\nDeadline to register: February 27\, 2
 021\nAvailable board roles include:\n\n 	Vice President\n 	Director\, Me
 mbership\n 	Director\, Volunteers\n 	Co-Directors\, Events\n 	Director\, S
 tudents and New Communicators\n\nFor more details visit our volunteer opp
 ortunities page.\n\n&nbsp\;\n\nPlease note that the Zoom link will be emai
 led to you the day before the event. If you have any questions\, please em
 ail vicepresident (at) iabc.bc.ca.
END:VEVENT
END:VCALENDAR