BEGIN:VCALENDAR
VERSION:2.0
PRODID:-//wp-events-plugin.com//7.2.3.1//EN
BEGIN:VEVENT
UID:360@iabc.bc.ca
DTSTART:20240530T180000Z
DTEND:20240530T190000Z
DTSTAMP:20240517T015304Z
URL:https://iabc.bc.ca/upcoming-events/iabc-bc-professional-development-ev
 ent-using-comedy-to-create-high-impact-presentations/
SUMMARY:IABC/BC Professional Development Event - Using Comedy to Create Hig
 h Impact Presentations
DESCRIPTION:\n\nRegister today to attend IABC/BC Professional Development E
 vent - Secrets from the world of stand-up: using comedy to create high imp
 act presentations.\n\nHumour is a powerful way to connect with your audien
 ce at an emotional level so that you and your ideas have a lasting impact.
 \n\nIn this session\, Jackie Amsden will share tips and strategies from th
 e field of stand-up comedy that you can use to enhance the impact of your 
 business presentations. \n\nWe will explore:\n\n 	\n\n 	Authenticity and 
 freshness\n 	Never trash the venue: avoiding risk\n 	How to craft a joke: 
 comedy writing 101\n\n\n\n About the speaker:\n\nJackie Amsden is a commu
 nications officer at Simon Fraser University\, mother and stand-up comic. 
 She has performed at venues across Greater Vancouver including Yuk Yuk’s
  Surrey and the House of Comedy. She was a finalist in the Fraser Valley
 ’s Comedy Competition and is currently a semi-finalist in the Funniest P
 erson with a Day Job Competition.\n\nRegister
END:VEVENT
END:VCALENDAR