BEGIN:VCALENDAR
VERSION:2.0
PRODID:-//wp-events-plugin.com//7.2.3.1//EN
BEGIN:VEVENT
UID:362@iabc.bc.ca
DTSTART:20240620T180000Z
DTEND:20240620T203000Z
DTSTAMP:20240519T005400Z
URL:https://iabc.bc.ca/upcoming-events/iabc-bc-summer-social-and-wave-awar
 ds/
SUMMARY:IABC/BC Summer Social and Wave Awards
DESCRIPTION:\n\nDate: Thursday\, June 20\, 2024\n\nTime:  6 – 8:30 p.m. 
 PT\n\nFormat: BCIT Downtown Campus\, Vancouver\, B.C.\n\nOur annual Summer
  Social is a great way to kick off your summer activities! Join us at BCIT
  to make new connections\, reconnect with some old friends\, and celebrate
  the end (and beginning) of a new chapter year.\n\nWe’ll also be honouri
 ng the nominees and winners of this year’s Wave Awards! We’ll announce
  this year’s winners on our website and social channels and present the 
 awards to our winners at the social. Join us for a toast to all our nomine
 es and winners for their exceptional work which elevates the standard of o
 ur chapter.\n\nRegister today!\n\nQuestions? Contact executive@iabc.bc.ca
END:VEVENT
END:VCALENDAR