BEGIN:VCALENDAR
VERSION:2.0
PRODID:-//wp-events-plugin.com//7.2.3.1//EN
BEGIN:VEVENT
UID:240@iabc.bc.ca
DTSTART:20201202T173000Z
DTEND:20201202T190000Z
DTSTAMP:20220112T025945Z
URL:https://iabc.bc.ca/upcoming-events/iabc-bc-virtual-holiday-social/
SUMMARY:IABC/BC Virtual Holiday Social: Have the final SLEIGH!
DESCRIPTION:\n\n\nGet into the spirit of the season at IABC/BC’s Virtual 
 Holiday Trivia Social!\n\n\n\n\n\n\nWho\nThe International Association of 
 Business Communicators\, BC chapter's annual holiday social is a gathering
  for both IABC/BC members and non-members.\nWhat\n2020 has undoubtedly b
 een a tough year but we want to have the final SLEIGH! Join us for our ann
 ual IABC/BC Holiday Social online to connect with friends and make new one
 s. Raise a glass in the comfort of your own home while competing with your
  fellow communicators over some pub night trivia. Nothing like a little co
 mpetition\, camaraderie and good cheer to get into the holiday spirit!\n\n
 Wear your favourite holiday sweater and show off your holiday spirit with 
 a festive background. Are you missing getting glammed up? Get your sparkle
  on with cocktail dresses and bowties. The choice is yours for the dress c
 ode\, so wear whatever gets you in the festive spirit.\n\nSpread the word 
 and register today for a festive evening that you won’t soon forget!\nWh
 y\nIf you work in Communications\, Marketing\, Public Relations\, Digital 
 Strategy\, Social Media or Writing\, this is your chance to connect with p
 rofessionals for mentoring\, career-building and friendship. New to IABC? 
 We'd love to meet you.\nEarly Bird Pricing (until November 19)\n\n 	Member
 s: $10\n 	Non-members: $15\n 	Student Members: $5\n 	Student Non-members: 
 $10\n\nRegular pricing (starting November 20)\n\n 	Members: $15\n 	Non-mem
 bers: $20\n 	Student Members: $10\n 	Student Non-members: $15\n\nA Zoom li
 nk to access the networking session will be emailed to registrants the day
  prior to the event.\n\nIf you require support for the ticket cost\, pleas
 e reach out to networkingevents@iabc.bc.ca.\n\n\n\n\n
END:VEVENT
END:VCALENDAR