BEGIN:VCALENDAR
VERSION:2.0
PRODID:-//wp-events-plugin.com//7.2.3.1//EN
BEGIN:VEVENT
UID:384@iabc.bc.ca
DTSTART;VALUE=DATE:20251028
DTEND;VALUE=DATE:20251031
DTSTAMP:20250502T035625Z
URL:https://iabc.bc.ca/upcoming-events/iabc-canada-conference-save-the-dat
 e/
SUMMARY:IABC Canada Conference: Save the date
DESCRIPTION:IABC Canada West and IABC Canada East regions are coming togeth
 er to host A Joint IABC Canada Conference—a ground breaking event that u
 nites communication professionals from coast to coast.\n\nExpect dynamic s
 peakers\, game-changing insights\, and unparalleled networking as we break
  down regional barriers and build a stronger\, more connected communicatio
 ns community.\n\nSave the Date: October 28–30\, 2025\nLocation: The We
 stin Ottawa\n\nEvent organizers are looking for passionate volunteers to h
 elp make this event a success. If you’d like to get involved\, sign up h
 ere.\n\nStay tuned for more details!
ATTACH;FMTTYPE=image/jpeg:https://iabc.bc.ca/wp-content/uploads/2025/05/Ca
 nada_Conference_Oct_2025-e1746129341520.jpg
END:VEVENT
END:VCALENDAR