BEGIN:VCALENDAR
VERSION:2.0
PRODID:-//wp-events-plugin.com//7.2.3.1//EN
BEGIN:VEVENT
UID:368@iabc.bc.ca
DTSTART:20240927T090000Z
DTEND:20240929T130000Z
DTSTAMP:20240914T003625Z
URL:https://iabc.bc.ca/upcoming-events/iabc-canada-dare-to-lead-saskatoon-
 sept-27-29-2024/
SUMMARY:IABC Canada Dare to Lead: Saskatoon Sept. 27-29\, 2024
DESCRIPTION:Each year\, IABC Canada West Region hosts Dare to Lead (D2L) 
 – a two-day conference bringing together 60-80 board leaders from six IA
 BC chapters (BC\, Calgary\, Edmonton\, Saskatoon\, Regina and Manitoba) fr
 om four western provinces. As of 2022\, our colleagues from Canada East ha
 ve also joined in the fun!\n\nThis year’s Dare to Lead conference will t
 ake place in person in beautiful Saskatoon\, SK.\n\nLearn more and registe
 r at the IABC Canada website.
END:VEVENT
END:VCALENDAR