BEGIN:VCALENDAR
VERSION:2.0
PRODID:-//wp-events-plugin.com//7.2.3.1//EN
BEGIN:VEVENT
UID:238@iabc.bc.ca
DTSTART:20210126T173000Z
DTEND:20210126T203000Z
DTSTAMP:20220112T025945Z
URL:https://iabc.bc.ca/upcoming-events/iabc-certification-exam-scmp-and-cm
 p/
SUMMARY:CMP® and SCMP® exam: Elevate Your Career with a Professional Cert
 ification
DESCRIPTION:IABC professional certification gives you the opportunity to de
 monstrate your strategic communication knowledge and expertise\, and provi
 de evidence of your outstanding abilities. 
END:VEVENT
END:VCALENDAR