BEGIN:VCALENDAR
VERSION:2.0
PRODID:-//wp-events-plugin.com//7.2.3.1//EN
BEGIN:VEVENT
UID:116@iabc.bc.ca
DTSTART;VALUE=DATE:20170611
DTEND;VALUE=DATE:20170615
DTSTAMP:20161210T070643Z
URL:https://iabc.bc.ca/upcoming-events/iabc-world-conference-2/
SUMMARY:IABC World Conference
DESCRIPTION:Join your peers from around the world to learn\, network\, re-e
 nergize and consider how we use the power of communication to lead our org
 anizations.
END:VEVENT
END:VCALENDAR