BEGIN:VCALENDAR
VERSION:2.0
PRODID:-//wp-events-plugin.com//7.2.3.1//EN
BEGIN:VEVENT
UID:109@iabc.bc.ca
DTSTART:20161025T173000Z
DTEND:20161025T190000Z
DTSTAMP:20210401T112554Z
URL:https://iabc.bc.ca/upcoming-events/iabcbc-health-communicators-special
 -interest-group/
SUMMARY:Health Communicators SIG: communicating through a crisis
DESCRIPTION:Join fellow health communicators at the first Health SIG for a 
 discussion of crisis communications. 
END:VEVENT
END:VCALENDAR