BEGIN:VCALENDAR
VERSION:2.0
PRODID:-//wp-events-plugin.com//7.2.3.1//EN
BEGIN:VEVENT
UID:99@iabc.bc.ca
DTSTART:20160623T180000Z
DTEND:20160623T203000Z
DTSTAMP:20210507T140502Z
URL:https://iabc.bc.ca/upcoming-events/iabcbc-summer-kick-off-2/
SUMMARY:IABC/BC Summer Kick-off
DESCRIPTION:Attend the IABC/BC Summer Kick-off event and start the summer o
 ff properly...after all\, you deserve it.
END:VEVENT
END:VCALENDAR